BEGIN:VCALENDAR
VERSION:2.0
PRODID:-//Statos - ECPv6.10.2//NONSGML v1.0//EN
CALSCALE:GREGORIAN
METHOD:PUBLISH
X-ORIGINAL-URL:https://statos.com.sg
X-WR-CALDESC:Events for Statos
REFRESH-INTERVAL;VALUE=DURATION:PT1H
X-Robots-Tag:noindex
X-PUBLISHED-TTL:PT1H
BEGIN:VTIMEZONE
TZID:Asia/Shanghai
BEGIN:STANDARD
TZOFFSETFROM:+0800
TZOFFSETTO:+0800
TZNAME:CST
DTSTART:20260101T000000
END:STANDARD
END:VTIMEZONE
BEGIN:VEVENT
DTSTART;VALUE=DATE:20260722
DTEND;VALUE=DATE:20260817
DTSTAMP:20260421T064409
CREATED:20260309T080700Z
LAST-MODIFIED:20260309T080700Z
UID:13713-1784678400-1786924799@statos.com.sg
SUMMARY:Kuching Festival Food Fair 2026 （SWK）
DESCRIPTION:Kuching Festival Food Fair 2026 \nGet ready for one of Sarawak’s most anticipated culinary celebrations! The Kuching Festival Food Fair 2026 will take place from 22 July to 16 August 2026\, bringing together an exciting showcase of flavours\, culture\, and international gastronomy. \nAs a proud UNESCO Creative City of Gastronomy\, Kuching will once again transform into a vibrant food paradise — where visitors can explore local favourites\, international cuisines\, cultural performances\, and unique culinary experiences. \n✨ Whether you’re a foodie\, traveller\, or culture lover\, this is an event you won’t want to miss. \n📍 Dewan Masyarakat MBKS (Kuching South City Council Community Hall)📅 22 July – 16 August 2026 \nCome experience the taste of Sarawak and the world in one unforgettable festival.
URL:https://statos.com.sg/event/kuching-festival-food-fair-2026-%ef%bc%88swk%ef%bc%89/
LOCATION:Kuching South City Council Community Hall
ATTACH;FMTTYPE=image/png:https://statos.com.sg/wp-content/uploads/2026/03/Featured-Image-32.png
END:VEVENT
BEGIN:VEVENT
DTSTART;VALUE=DATE:20260818
DTEND;VALUE=DATE:20260821
DTSTAMP:20260421T064409
CREATED:20251217T080900Z
LAST-MODIFIED:20251217T080900Z
UID:13616-1787011200-1787270399@statos.com.sg
SUMMARY:PATA Travel Mart 2026 (PTM) SWK
DESCRIPTION:PATA Travel Mart (PTM)\nis one of Asia Pacific’s longest-standing international travel trade exhibitions featuring unparalleled networking and contracting opportunities to help travel and tourism organisations access decision-makers\, meet new clients\, expand their networks\, establish new relationships and consolidate existing business partnerships. \nEndorsed by the Ministry of Tourism\, Creative Industry and Performing Arts of Sarawak\, hosted by the Sarawak Tourism Board\, and supported by the Business Events Sarawak\, marks the first time the Association’s signature travel trade exhibition is set to take place in Sarawak. \nDate: 18 – 20 August 2026 \nVenue: Borneo Convention Centre Kuching (BCCK) \nRegister Now \nFor more information and updates\, you may refer to the official event pages below:\nhttps://www.pata.org/pata-travel-mart-2026  \n \n 
URL:https://statos.com.sg/event/pata-travel-mart-2026-ptm-swk/
LOCATION:Borneo Convention Centre Kuching (BCCK)\, Kuching\, Sarawak
ATTACH;FMTTYPE=image/jpeg:https://statos.com.sg/wp-content/uploads/2025/12/1.jpg
END:VEVENT
END:VCALENDAR