BEGIN:VCALENDAR
VERSION:2.0
PRODID:-//Statos - ECPv6.10.2//NONSGML v1.0//EN
CALSCALE:GREGORIAN
METHOD:PUBLISH
X-WR-CALNAME:Statos
X-ORIGINAL-URL:https://statos.com.sg
X-WR-CALDESC:Events for Statos
REFRESH-INTERVAL;VALUE=DURATION:PT1H
X-Robots-Tag:noindex
X-PUBLISHED-TTL:PT1H
BEGIN:VTIMEZONE
TZID:Asia/Shanghai
BEGIN:STANDARD
TZOFFSETFROM:+0800
TZOFFSETTO:+0800
TZNAME:CST
DTSTART:20260101T000000
END:STANDARD
END:VTIMEZONE
BEGIN:VEVENT
DTSTART;VALUE=DATE:20260129
DTEND;VALUE=DATE:20260131
DTSTAMP:20260421T052751
CREATED:20251111T013058Z
LAST-MODIFIED:20251127T023321Z
UID:13476-1769644800-1769817599@statos.com.sg
SUMMARY:Deutscher Brand Summit 2026 (SWK)
DESCRIPTION:Sarawak is charting a bold path toward its 2030 economic vision in embracing Industry 5.0 technologies to build a smarter\, greener\, and more inclusive economy. \nThe Industry 5.0 Summit 2026\, endorsed by the Ministry of International Trade\, Industry and Investment Sarawak (MINTRED)\, is where global leaders\, innovators\, and investors unite to shape this transformation. \n📅 Date: 29 – 30 January 2026\n📍 Venue: Raia Hotel & Convention Centre\, Kuching\, Sarawak\, Malaysia \nThis summit marks a significant milestone as the Sarawak Government opens its doors to international technology partners by inviting experts in AI\, robotics\, renewable energy\, smart manufacturing\, and digital transformation to share knowledge\, transfer skills\, and empower local talents to thrive in the future economy. \n  \nJoin us in building Sarawak’s next chapter where innovation meets opportunity\, and collaboration drives growth. \n👉 Learn more or register your interest: https://deutscherbrand.com/
URL:https://statos.com.sg/event/deutscher-brand-summit-2026/
LOCATION:Raia Hotel & Convention Centre\, 1\, 900A\, Richmond Hill\, 93250 Kuching\, Sarawak\, Malaysia\, Kuching\, Sarawak\, 93250\, Malaysia
ATTACH;FMTTYPE=image/png:https://statos.com.sg/wp-content/uploads/2025/11/Featured-Image-24.png
ORGANIZER;CN="Deutscher Brand. Powered by Serojatech Sdn Bhd":MAILTO:grow@deutscherbrand.com
END:VEVENT
END:VCALENDAR