BEGIN:VCALENDAR
VERSION:2.0
PRODID:-//Statos - ECPv6.10.2//NONSGML v1.0//EN
CALSCALE:GREGORIAN
METHOD:PUBLISH
X-ORIGINAL-URL:https://statos.com.sg
X-WR-CALDESC:Events for Statos
REFRESH-INTERVAL;VALUE=DURATION:PT1H
X-Robots-Tag:noindex
X-PUBLISHED-TTL:PT1H
BEGIN:VTIMEZONE
TZID:Asia/Shanghai
BEGIN:STANDARD
TZOFFSETFROM:+0800
TZOFFSETTO:+0800
TZNAME:CST
DTSTART:20250101T000000
END:STANDARD
END:VTIMEZONE
BEGIN:VEVENT
DTSTART;TZID=Asia/Shanghai:20250519T150000
DTEND;TZID=Asia/Shanghai:20250519T180000
DTSTAMP:20260420T234254
CREATED:20250523T042201Z
LAST-MODIFIED:20250523T042201Z
UID:11329-1747666800-1747677600@statos.com.sg
SUMMARY:eSIMM Roam Official Launch event (SG)
DESCRIPTION:Welcome to the eSIMM Roam Official Launch event! eSIMM Roam is a mobile app designed to make sure our users stay connected while travelling.\n\n\n\n\n\n\neSIMM Roam is a mobile app that allows users to purchase\, manage\, and top up eSIM data plans in over 140+ countries.\n\n\n\n\n\n\n🎉 What to Expect:\n\n\n\n\n\n\nA live introduction to the eSIMM Roam app – explore its features\, benefits.\nNetworking opportunities with potential collaborators.\nEnjoy light refreshments and drinks in a relaxed setting.\nGet exclusive perks and live demos.\nSign up via : https://forms.gle/kYAhVzSPsz2dpTT79
URL:https://statos.com.sg/event/esimm-roam-official-launch-event-sg/
LOCATION:STATOS Gallery
ATTACH;FMTTYPE=image/png:https://statos.com.sg/wp-content/uploads/2025/05/Untitled-design.png
ORGANIZER;CN="Cloud Telecom":MAILTO:sales@cloudtelecom.sg
END:VEVENT
BEGIN:VEVENT
DTSTART;VALUE=DATE:20250523
DTEND;VALUE=DATE:20250526
DTSTAMP:20260420T234254
CREATED:20250523T034930Z
LAST-MODIFIED:20250523T095319Z
UID:11313-1747958400-1748217599@statos.com.sg
SUMMARY:Borneo Education Expo: Local Meets Global 2025 (SWK)
DESCRIPTION:Borneo Education Expo: Local Meets Global 2025 Your Gateway to Global Education Starts Here! The Borneo Education Expo: Local Meets Global 2025 is Sarawak’s leading education fair\, bringing together top local and international universities\, colleges\, and education service providers under one roof. This three-day event is your opportunity to explore a wide range of academic pathways\, scholarship options\, career guidance\, and global study experiences. Whether you’re a student planning your next step\, a parent seeking reliable education advice\, or an educator looking to connect with institutions\, this expo offers valuable insights and resources for all. Please refer to https://borneoeduexpo.com/ for more information.
URL:https://statos.com.sg/event/borneo-education-expo-local-meets-global-2025-swk/
LOCATION:RH Hotel\, Sibu\, Sarawak
ATTACH;FMTTYPE=image/jpeg:https://statos.com.sg/wp-content/uploads/2025/05/Feature-3.jpg
ORGANIZER;CN="Borneo Plux Sdn. Bhd.":MAILTO:admin@borneoplux.com
END:VEVENT
BEGIN:VEVENT
DTSTART;VALUE=DATE:20250523
DTEND;VALUE=DATE:20250526
DTSTAMP:20260420T234254
CREATED:20250523T035704Z
LAST-MODIFIED:20250523T035704Z
UID:11321-1747958400-1748217599@statos.com.sg
SUMMARY:New Era Fun 3.0_STREAM Expo 2025 (SWK)
DESCRIPTION:The NEW ERA FUN 3.0 STREAM Expo 2025 is a dynamic event dedicated to promoting STREAM (Science\, Technology\, Reading/Robotics\, Engineering\, Arts\, and Mathematics) education. This expo serves as a collaborative platform for educators\, government agencies\, NGOs\, and community leaders to explore innovative ways to integrate STREAM into early childhood and broader educational settings. Attendees will engage with the latest trends\, cutting-edge innovations\, and sustainable learning practices that shape the future of education\, creativity\, and innovation.
URL:https://statos.com.sg/event/new-era-fun-3-0_stream-expo-2025-swk/
LOCATION:Methodist Pilley Institute & Kingwood Hotel Sibu
ATTACH;FMTTYPE=image/jpeg:https://statos.com.sg/wp-content/uploads/2025/05/Featured-Image.jpg
END:VEVENT
BEGIN:VEVENT
DTSTART;VALUE=DATE:20250525
DTEND;VALUE=DATE:20250527
DTSTAMP:20260420T234254
CREATED:20250523T034730Z
LAST-MODIFIED:20250523T035447Z
UID:11310-1748131200-1748303999@statos.com.sg
SUMMARY:International Resilience Symposium 2025 (IReS’25) (SWK)
DESCRIPTION:IReS’25 is expected to provides a platform for the sharing of thoughts\, insights and practises on resilience research in Malaysia and throughout the world. In addition\, it is hoped that the conference will be a global knowledge centre to discuss the resilience theory\, model\, and approach in building the nation. This symposium offers a platform for professional counselors\, psychologists\, ESG experts\, students\, community leaders\, government and NGO representatives\, and other stakeholders engaged in community resilience-building to exchange ideas and enhance their understanding of counseling. Participants will explore topics such as human development\, effective counseling practices\, and the implications of fostering well-being and happiness in individuals and communities. Please refer to https://ires.my/ for more information.\n\n\n\n\n\n\nWhat is the Objective for IReS’25?\n➤ To address current and contemporary studies on resilience;\n➤ To provide local and international experts and delegates with the platform to share knowledge\, skill and experience;\n➤ To foster social inclusion and intercultural dialogues;\n➤ To learn resilience approach focusing on skills and approaches to specific groups and/or individuals
URL:https://statos.com.sg/event/international-resilience-symposium-2025-ires25-swk/
LOCATION:Hilton Kuching Hotel\, Sarawak
ATTACH;FMTTYPE=image/jpeg:https://statos.com.sg/wp-content/uploads/2025/05/Feature-11.jpg
ORGANIZER;CN="Human Resilience & Potential Centre%2C Faculty of Cognitive Sciences and Human Development%2C Universiti Malaysia Sarawak%2C 94300 Kota Samarahan%2C Sarawak%2C Malaysia":MAILTO:ires.hrpc@gmail.com
END:VEVENT
BEGIN:VEVENT
DTSTART;VALUE=DATE:20250529
DTEND;VALUE=DATE:20250531
DTSTAMP:20260420T234254
CREATED:20250523T034222Z
LAST-MODIFIED:20250526T080206Z
UID:11305-1748476800-1748649599@statos.com.sg
SUMMARY:Asia Carbon Conference 2025 (SWK)
DESCRIPTION:Unlocking Asia’s carbon market to supercharge growth opportunities across the global value chain\nJoin us for the industry’s leading conference for carbon in Asia to get ahead of your competitors in a rapidly growing global market. Gain exclusive access to formal announcements of new forestry carbon permits and the highly anticipated Sarawak Sustainability Blueprint. The 2025 edition returns to Kuching\, Sarawak\, in partnership with the Ministry of Energy and Environmental Sustainability Sarawak. Meet key business colleagues\, senior government officials and new technology providers all under one roof for two days of the latest developments in the Carbon and IRECS markets. For more information\, please visit: https://www.argusmedia.com/en/events/conferences/asia-carbon-conference
URL:https://statos.com.sg/event/asia-carbon-conference-2025-swk/
LOCATION:Borneo Convention Centre Kuching (BCCK)\, Kuching\, Sarawak
ATTACH;FMTTYPE=image/jpeg:https://statos.com.sg/wp-content/uploads/2025/05/Feature-7.jpg
END:VEVENT
BEGIN:VEVENT
DTSTART;TZID=Asia/Shanghai:20250529T180000
DTEND;TZID=Asia/Shanghai:20250529T200000
DTSTAMP:20260420T234254
CREATED:20250526T074415Z
LAST-MODIFIED:20250526T084502Z
UID:11530-1748541600-1748548800@statos.com.sg
SUMMARY:Honshitsu Wine Appreciation (SG)
DESCRIPTION:Join us for an exclusive evening of wine appreciation led by the 3rd Best Sommelier of the World. \nDeepen your understanding of wine and explore the rich cultural heritage of Sarawak Rice Wine through a special showcase of the premium ENDU Sparkling Wine crafted from Bario Rice. \n📅 Date: 29 May 2025 (Thursday)\n⏰ Time: 6:00 PM – 8:00 PM\n📍 Venue: Earlybird\, 17 Jalan Pinang\, Singapore 199149\n🔗 Register here: https://docs.google.com/forms/d/e/1FAIpQLSeyviGslM6YXvxjt-9SzH-EfyJq-FMMNLL724SOSdIqqGbs8w/viewform
URL:https://statos.com.sg/event/wine-appreciation-by-3rd-world-wine-sommelier-swk/
LOCATION:Earlybird\, 17 Jalan Pinang\, Singapore\, 199149\, Singapore
ATTACH;FMTTYPE=image/png:https://statos.com.sg/wp-content/uploads/2025/05/Untitled-design-9.png
END:VEVENT
END:VCALENDAR