BEGIN:VCALENDAR
VERSION:2.0
PRODID:-//Statos - ECPv6.10.2//NONSGML v1.0//EN
CALSCALE:GREGORIAN
METHOD:PUBLISH
X-WR-CALNAME:Statos
X-ORIGINAL-URL:https://statos.com.sg
X-WR-CALDESC:Events for Statos
REFRESH-INTERVAL;VALUE=DURATION:PT1H
X-Robots-Tag:noindex
X-PUBLISHED-TTL:PT1H
BEGIN:VTIMEZONE
TZID:Asia/Shanghai
BEGIN:STANDARD
TZOFFSETFROM:+0800
TZOFFSETTO:+0800
TZNAME:CST
DTSTART:20220101T000000
END:STANDARD
END:VTIMEZONE
BEGIN:VEVENT
DTSTART;TZID=Asia/Shanghai:20230124T100000
DTEND;TZID=Asia/Shanghai:20230127T200000
DTSTAMP:20260421T111448
CREATED:20250523T074238Z
LAST-MODIFIED:20250523T074248Z
UID:11435-1674554400-1674849600@statos.com.sg
SUMMARY:Chinese New Year @ Gourmet Sarawak
DESCRIPTION:     \n\n\n\nWelcome all Singapore Residents to try Sarawak delicious food! Laksa “the breakfast of God” and Kolomee air-flown from Sarawak is here in Singapore Changi T4 Public Area Kopitiam! A comfortable and spacious location where you can meet other friends during Chinese New Year.\n\n\n\n\n\n\nFor fellow Sarawakians and their families who are unable to return home for the reunion celebration\, we have prepared a small goodie bag for you and your family. There will be CNY Goodie Bags\, CNY Festive Pastry\, CNY Thematic Photo Backdrop Capture Moments of Joy.
URL:https://statos.com.sg/event/chinese-new-year-gourmet-sarawak/
LOCATION:Singapore Changi Terminal 4
ATTACH;FMTTYPE=image/jpeg:https://statos.com.sg/wp-content/uploads/2024/10/Events-26.1-Cover.jpg
ORGANIZER;CN="Gourmet Sarawak":MAILTO:info@statos.com.sg
END:VEVENT
BEGIN:VEVENT
DTSTART;TZID=Asia/Shanghai:20230114T180000
DTEND;TZID=Asia/Shanghai:20230131T220000
DTSTAMP:20260421T111448
CREATED:20250523T074536Z
LAST-MODIFIED:20250523T074615Z
UID:11439-1673719200-1675202400@statos.com.sg
SUMMARY:CNY Festival in Miri 农历新年庆典
DESCRIPTION:     \n     \n\n\n\nChinese New Year is coming! Miri Times Square is having a wonderful celebration of CNY with incredible lanterns and delicious food stalls. There are Lion Dance Performance\, Singing & Dancing Performance together with multi-race & culture!\n\n\n\n\n\n\n美里时代广场的新年夜市好热闹！琳琅满目的灯饰和各种各样的美食摊位，很有新年的气氛。\n\n\n\n\n\n\nPhotos credit to Nicholas.
URL:https://statos.com.sg/event/cny-festival-in-miri-%e5%86%9c%e5%8e%86%e6%96%b0%e5%b9%b4%e5%ba%86%e5%85%b8/
LOCATION:Miri Times Square
ATTACH;FMTTYPE=image/jpeg:https://statos.com.sg/wp-content/uploads/2024/10/Events-27.1-Cover.jpg
ORGANIZER;CN="Miri Times Square":MAILTO:info@statos.com.sg
END:VEVENT
BEGIN:VEVENT
DTSTART;TZID=Asia/Shanghai:20221214T100000
DTEND;TZID=Asia/Shanghai:20221217T170000
DTSTAMP:20260421T111448
CREATED:20250523T074749Z
LAST-MODIFIED:20250523T074901Z
UID:11444-1671012000-1671296400@statos.com.sg
SUMMARY:Christmas & Chinese New Year Products
DESCRIPTION:The new looks of the bags are so nice!\n新年的设计款也太好看了！包包上直接有个“福”字~\n\n\n\n\n\n\nThere are a lot of hampers to choose too. Come to our gallery 14-17 Dec for special discount~\n赶快来我们的展厅看看吧~\n\n\n\n\n\n\nLocation: 80 Robinson Road\, #01-02a Singapore 068898
URL:https://statos.com.sg/event/christmas-chinese-new-year-products/
LOCATION:80 Robinson Road\, #01-02A Singapore 068898
ATTACH;FMTTYPE=image/jpeg:https://statos.com.sg/wp-content/uploads/2024/10/Events-28.1-Cover.jpg
ORGANIZER;CN="STATOS":MAILTO:info@statos.com.sg
END:VEVENT
BEGIN:VEVENT
DTSTART;TZID=Asia/Shanghai:20221121T100000
DTEND;TZID=Asia/Shanghai:20221127T220000
DTSTAMP:20260421T111448
CREATED:20250523T075027Z
LAST-MODIFIED:20250523T075109Z
UID:11448-1669024800-1669586400@statos.com.sg
SUMMARY:Sarawak Fair 2022 砂拉越嘉年华
DESCRIPTION:Sarawak Trade and Tourism Office Singapore (STATOS) is organising the Sarawak Fair 2022 – from 21 to 27th November in Singapore. The business-to-consumer fair has attracted 31 exhibitors to date and will promote Sarawak as both an investment and tourism destination to generate sustained interest in Sarawak products and services.\n\n\n\n\n\n\nThe Fair will be held in Suntec City East Atrium\, one of Singapore’s largest malls and an exciting shopping destination nestled in the heart of bustling Marina District with 5 high-rise office towers and will be open daily between 10am and 10pm.\n\n\n\n\n\n\nIt will highlight six themes: Travel & Tourism; Nature\, Adventure & Heritage; People\, Culture & Community; Arts\, Events & Festivals; Food\, Leisure & Entertainment; and Trade\, Business\, Investment including S-MM2H.\n\n\n\n\n\n\nThis year’s Fair will have a strong focus on tourism\, and STATOS has partnered with six strong travel agents in Singapore to promote Sarawak aggressively in the market. These agents are collaborating with local Sarawak travel agencies and will be selling Sarawak tour packages to Singaporeans and expatriates.\n\n\n\n\n\n\nSTATOS have planned an extensive publicity program in the lead-up to the event including articles and advertisements in mainstream newspapers\, Lianhe Zaobao\, Berita Harian and various magazines. The event will also be promoted across various outdoor advertising platforms and social media platforms by key opinion leaders and travel influencers.\n\n\n\n\n\n\nVisitors purchasing a tour package during the event will be able to ‘Spin the Wheel’ for prizes worth more than RM 100\,000 provided by sponsors. These include: 40 return air tickets with Malaysia Airlines\, Scoot and Air Asia to Kuching or Miri; resort and hotel vouchers; discount vouchers for holiday packages and sample products including bird-nest and Sarawak pepper.\n\n\n\n\n\n\nOther highlights will include live performances by six-piece Kuching band\, ‘Meruked’\, playing traditional sounds of Borneo music with a modern twist; displays by ‘Kuching Gastronomical journey’ operators – Foodish Trip; ‘Discover Sarawak on Two Wheels’ by DYRT Academy and ‘Art Jamming’ by renowned artist Gerald Goh.\n\n\n\n\n\n\nDuring the Fair\, ambassadors dressed in Sarawak traditional costumes will be walking the streets of Singapore in central areas such as Raffles Place\, Marina Bay Sands and Orchard Road to generate interest in visiting the Fair.
URL:https://statos.com.sg/event/sarawak-fair-2022-%e7%a0%82%e6%8b%89%e8%b6%8a%e5%98%89%e5%b9%b4%e5%8d%8e/
LOCATION:East Atrium\, Suntec City Singapore
ATTACH;FMTTYPE=image/jpeg:https://statos.com.sg/wp-content/uploads/2024/10/Events-29.1-Cover.jpg
ORGANIZER;CN="STATOS":MAILTO:info@statos.com.sg
END:VEVENT
END:VCALENDAR