BEGIN:VCALENDAR
VERSION:2.0
PRODID:-//Statos - ECPv6.10.2//NONSGML v1.0//EN
CALSCALE:GREGORIAN
METHOD:PUBLISH
X-ORIGINAL-URL:https://statos.com.sg
X-WR-CALDESC:Events for Statos
REFRESH-INTERVAL;VALUE=DURATION:PT1H
X-Robots-Tag:noindex
X-PUBLISHED-TTL:PT1H
BEGIN:VTIMEZONE
TZID:Asia/Shanghai
BEGIN:STANDARD
TZOFFSETFROM:+0800
TZOFFSETTO:+0800
TZNAME:CST
DTSTART:20260101T000000
END:STANDARD
END:VTIMEZONE
BEGIN:VEVENT
DTSTART;VALUE=DATE:20260928
DTEND;VALUE=DATE:20261003
DTSTAMP:20260421T054003
CREATED:20251117T023348Z
LAST-MODIFIED:20251117T025933Z
UID:13538-1790553600-1790985599@statos.com.sg
SUMMARY:Salutogenic Urbanism: Reinventing Healthy Cities to Meet Climate Challenges
DESCRIPTION:The Salutogenic Mission for\nHealthy\, Inclusive\, Smart\, and Sustainable Living\nThe 15th World Congress & Exhibition on Design & Health (WCDH 2026) will bring together experts from architecture\, public health\, psychology\, urban planning\, engineering\, and design to explore how cities can be healthier\, more sustainable\, and better prepared for climate challenges. \nWCDH 2026 focuses on creating places that support well-being\, social connection\, and active living. Through keynote sessions\, panel discussions\, and exhibitions\, participants will share insights and innovations that show how design and science can work hand in hand to build inclusive\, livable cities for the future. \n\n\n\n\n\n\n\n\n\n\n\n\n\n\n\n\n\nProgramme Schedule\n\n\n\nDay 1\n\n\n\n\n\n\n29th September\n\n\n\n\n\nRegistration & Pre-Congress Symposium \n\n\n\n\n\n\n\n\nDay 2\n\n\n\n30th September\n\n\n\n\n\nRegistration\, Opening\, Conference Session & Exhibition \n\n\n\n\n\n\n\n\nDay 3\n\n\n\n1st October\n\n\n\n\n\nRegistration\, Conference\, Exhibition & Academy Awards / Gala Dinner \n\n\n\n\n\n\n\n\nDay 4\n\n\n\n2nd October\n\n\n\n\n\nStudy Tour / Site Visits \nOrganized by: \n \n 
URL:https://statos.com.sg/event/salutogenic-urbanism-reinventing-healthy-cities-to-meet-climate-challenges/
LOCATION:UNIFOR Complex\, 10\, Jalan Ong Tiang Swee\, Mabel Garden\, 93200 Kuching\, Sarawak\, Malaysia\, Kuching\, 93200
ATTACH;FMTTYPE=image/jpeg:https://statos.com.sg/wp-content/uploads/2025/11/Events-pic-scaled.jpg
END:VEVENT
BEGIN:VEVENT
DTSTART;VALUE=DATE:20261017
DTEND;VALUE=DATE:20261025
DTSTAMP:20260421T054003
CREATED:20251209T084611Z
LAST-MODIFIED:20251209T084611Z
UID:13585-1792195200-1792886399@statos.com.sg
SUMMARY:International Council on Monuments and Sites (ICOMOS) Triennial General Assembly 2026 (SWK)
DESCRIPTION:
URL:https://statos.com.sg/event/international-council-on-monuments-and-sites-icomos-triennial-general-assembly-2026-swk/
LOCATION:Borneo Convention Centre Kuching (BCCK)\, Kuching\, Sarawak
ATTACH;FMTTYPE=image/png:https://statos.com.sg/wp-content/uploads/2025/12/Featured-Image-28.png
END:VEVENT
BEGIN:VEVENT
DTSTART;VALUE=DATE:20280912
DTEND;VALUE=DATE:20280917
DTSTAMP:20260421T054003
CREATED:20251209T085440Z
LAST-MODIFIED:20251209T085529Z
UID:13591-1852329600-1852761599@statos.com.sg
SUMMARY:International Water Association World Water Congress and Exhibition 2028 (SWK)
DESCRIPTION:The IWA World Water Congress & Exhibition is the global event for water professionals covering the full water cycle. As the Congress rotates through cities and countries each event has an extra emphasis on issues of specific interest to the region. \n\n\n\n\n\n\n\nThe Congress attracts thousands of leading professionals and companies from across the water sector\, including thought leaders from within and outside the water sector. Together they create new insights into how pioneering science\, technological innovation and leading practices shape water management.\n\n\nFocusing on leading practice\, innovation and solutions\, the Congress & Exhibition provides new networking and business opportunities\, and ensures maximum exposure between participants\, exhibitors and sponsors. It connects attendees with the right people and the right solutions\, and has a track record of fostering new collaborations and partnerships\, and providing a platform for exhibitors and sponsors to raise their profile amongst leading water professionals and companies. Organised by the International Water Association\, this is the global event on water solutions that brings together thought leaders\, decision makers\, leading researchers and business representatives.
URL:https://statos.com.sg/event/international-water-association-world-water-congress-and-exhibition-2028-swk/
LOCATION:Borneo Convention Centre Kuching (BCCK)\, Kuching\, Sarawak
ATTACH;FMTTYPE=image/png:https://statos.com.sg/wp-content/uploads/2025/12/Featured-Image-29-1.png
END:VEVENT
END:VCALENDAR