BEGIN:VCALENDAR
VERSION:2.0
PRODID:-//Statos - ECPv6.10.2//NONSGML v1.0//EN
CALSCALE:GREGORIAN
METHOD:PUBLISH
X-WR-CALNAME:Statos
X-ORIGINAL-URL:https://statos.com.sg
X-WR-CALDESC:Events for Statos
REFRESH-INTERVAL;VALUE=DURATION:PT1H
X-Robots-Tag:noindex
X-PUBLISHED-TTL:PT1H
BEGIN:VTIMEZONE
TZID:Asia/Shanghai
BEGIN:STANDARD
TZOFFSETFROM:+0800
TZOFFSETTO:+0800
TZNAME:CST
DTSTART:20260101T000000
END:STANDARD
END:VTIMEZONE
BEGIN:VEVENT
DTSTART;VALUE=DATE:20260913
DTEND;VALUE=DATE:20260914
DTSTAMP:20260421T091542
CREATED:20260128T035950Z
LAST-MODIFIED:20260128T035950Z
UID:13677-1789257600-1789343999@statos.com.sg
SUMMARY:Kuching 10K Challenge Powered by JomRun® (SWK)
DESCRIPTION:Kuching 10K Challenge Powered by JomRun®!\n\n Kuching 10K Challenge is now OPEN\n\nThis 10KM competitive category features official timing\, where every kilometre demands discipline\, every stride tests your will\, and every second counts. Designed for runners who step onto the course with intent\, courage\, and a hunger to compete.\n\n\n\nFinish strong and earn your exclusive 10KM Finisher Tee  Super Early Bird slots are now available — commit early\, train harder\, and step into the fight prepared.\n\n\nKuching 10K Challenge Powered by JomRun®\nRegistration link: https://tinyurl.com/Kuching10KChallenge\nCategory: 5KM\, 10KM\nDate: 13 September 2026 (Sunday)\nVenue: Majlis Bandaraya Kuching Selatan
URL:https://statos.com.sg/event/kuching-10k-challenge-powered-by-jomrun-swk/
LOCATION:Majlis Bandaraya Kuching Selatan
ATTACH;FMTTYPE=image/jpeg:https://statos.com.sg/wp-content/uploads/2026/01/Featured-Image-13.jpg
END:VEVENT
END:VCALENDAR