BEGIN:VCALENDAR
VERSION:2.0
PRODID:-//Statos - ECPv6.10.2//NONSGML v1.0//EN
CALSCALE:GREGORIAN
METHOD:PUBLISH
X-WR-CALNAME:Statos
X-ORIGINAL-URL:https://statos.com.sg
X-WR-CALDESC:Events for Statos
REFRESH-INTERVAL;VALUE=DURATION:PT1H
X-Robots-Tag:noindex
X-PUBLISHED-TTL:PT1H
BEGIN:VTIMEZONE
TZID:Asia/Shanghai
BEGIN:STANDARD
TZOFFSETFROM:+0800
TZOFFSETTO:+0800
TZNAME:CST
DTSTART:20260101T000000
END:STANDARD
END:VTIMEZONE
BEGIN:VEVENT
DTSTART;VALUE=DATE:20260606
DTEND;VALUE=DATE:20260607
DTSTAMP:20260421T051836
CREATED:20260309T083641Z
LAST-MODIFIED:20260309T083641Z
UID:13726-1780704000-1780790399@statos.com.sg
SUMMARY:2026 Gawai Dayak Open House and Parade (SWK)
DESCRIPTION:Experience the Spirit of Gawai Dayak in Betong\nBetong town will come alive with culture\, music\, and celebration as it hosts the Gawai Dayak Open House and Parade 2026 on 6 June 2026\, welcoming visitors to experience one of Sarawak’s most meaningful cultural festivals. \nThe celebration will begin with a vibrant Gawai Parade in Betong town in the morning\, featuring colourful cultural troupes\, decorated contingents\, and community groups proudly showcasing the rich heritage and traditions of the Dayak community. \nWhether you are looking to discover local traditions\, enjoy cultural performances\, or simply experience the festive atmosphere\, Betong is the place to be this Gawai season. \n📅 6 June 2026📍 Betong\, Sarawak
URL:https://statos.com.sg/event/2026-gawai-dayak-open-house-and-parade-swk/
LOCATION:Betong\, Sarawak
ATTACH;FMTTYPE=image/jpeg:https://statos.com.sg/wp-content/uploads/2026/03/Featured-Image-14.jpg
END:VEVENT
END:VCALENDAR