BEGIN:VCALENDAR
VERSION:2.0
PRODID:-//Statos - ECPv6.10.2//NONSGML v1.0//EN
CALSCALE:GREGORIAN
METHOD:PUBLISH
X-WR-CALNAME:Statos
X-ORIGINAL-URL:https://statos.com.sg
X-WR-CALDESC:Events for Statos
REFRESH-INTERVAL;VALUE=DURATION:PT1H
X-Robots-Tag:noindex
X-PUBLISHED-TTL:PT1H
BEGIN:VTIMEZONE
TZID:Asia/Shanghai
BEGIN:STANDARD
TZOFFSETFROM:+0800
TZOFFSETTO:+0800
TZNAME:CST
DTSTART:20260101T000000
END:STANDARD
END:VTIMEZONE
BEGIN:VEVENT
DTSTART;TZID=Asia/Shanghai:20260425T070000
DTEND;TZID=Asia/Shanghai:20260426T170000
DTSTAMP:20260426T013832
CREATED:20260423T084524Z
LAST-MODIFIED:20260423T084524Z
UID:13775-1777100400-1777222800@statos.com.sg
SUMMARY:OFFSEAS 2026 Conference (KL)
DESCRIPTION:OFFSEAS 2026 Conference | Kuala Lumpur\n\n\nSarawak will be represented at the OFFSEAS 2026 Conference\, taking place from 25–26 April 2026 at Garden International School. The conference serves as a regional platform that brings together educators\, school leaders\, and industry practitioners to advance outdoor and experiential learning.\n\n\nWe welcome you to visit our booth to explore Sarawak’s strengths in nature-based learning\, cultural experiences\, and sustainable tourism\, and to discuss potential areas of collaboration.\n\n\n\nIn collaboration with Sarawak Forestry Corporation (SFC)\, Miri City Council (MCC)\, Paradesa Borneo\, and Borneo Adventure\, we look forward to engaging with partners across the education and industry sectors.
URL:https://statos.com.sg/event/offseas-2026-conference-kl/
LOCATION:Garden International School\, Kuala Lumpur
ATTACH;FMTTYPE=image/jpeg:https://statos.com.sg/wp-content/uploads/2026/04/Featured-Image-15.jpg
END:VEVENT
END:VCALENDAR