BEGIN:VCALENDAR
VERSION:2.0
PRODID:-//Statos - ECPv6.10.2//NONSGML v1.0//EN
CALSCALE:GREGORIAN
METHOD:PUBLISH
X-ORIGINAL-URL:https://statos.com.sg
X-WR-CALDESC:Events for Statos
REFRESH-INTERVAL;VALUE=DURATION:PT1H
X-Robots-Tag:noindex
X-PUBLISHED-TTL:PT1H
BEGIN:VTIMEZONE
TZID:Asia/Shanghai
BEGIN:STANDARD
TZOFFSETFROM:+0800
TZOFFSETTO:+0800
TZNAME:CST
DTSTART:20250101T000000
END:STANDARD
END:VTIMEZONE
BEGIN:VEVENT
DTSTART;TZID=Asia/Shanghai:20250725T200000
DTEND;TZID=Asia/Shanghai:20250726T200000
DTSTAMP:20260421T132254
CREATED:20250702T032019Z
LAST-MODIFIED:20250702T032540Z
UID:12289-1753473600-1753560000@statos.com.sg
SUMMARY:Front Row Comedy Sentral platform with Douglas Lim - Made in Malaysia (SWK)
DESCRIPTION:Get ready to laugh\, Sarawak ‼️ 😹😂 \nFront Row Asia\, as part of their LIVE SERIES\, is kicking off their Front Row Comedy Sentral platform with Douglas Lim – Made in Malaysia coming to Miri and Kuching‼️ 👏🏽🎉 \nDouglas Lim is synonymous with comedy in Malaysia. His natural ability to bring laughter to people from all walks of life has earned him the moniker of King of Malaysian Comedy. 👑😁 \nDouglas Lim – Made in Malaysia is a specially curated show which sold out in Kuala Lumpur\, Johor Bahru\, Penang and now going international with shows in Jakarta 🇮🇩🇮\, Singapore 🇸🇬\, Hong Kong 🇭🇰 and many more‼️ \nFront Row is thrilled to bring the tour to Sarawak. Don’t miss this chance to catch him live in Miri on 25th July 2025 and Kuching on 26th July 2025. Experience his wit and comedic observations as he brings the LOLs to you live on stage. 🎤🤡🤣🤣 \nThe show is less than a month away and tickets are selling fast so gather your friends and family and grab your tickets NOW!! \nHead over to https://www.frontrow.asia now for more information and to get your tickets. \n  \n \n 
URL:https://statos.com.sg/event/front-row-comedy-sentral-platform-with-douglas-lim-made-in-malaysia-swk/
LOCATION:Miri and Kuching\, Sarawak
ATTACH;FMTTYPE=image/png:https://statos.com.sg/wp-content/uploads/2025/07/Featured-Image-11.png
END:VEVENT
END:VCALENDAR