BEGIN:VCALENDAR
VERSION:2.0
PRODID:-//Statos - ECPv6.10.2//NONSGML v1.0//EN
CALSCALE:GREGORIAN
METHOD:PUBLISH
X-WR-CALNAME:Statos
X-ORIGINAL-URL:https://statos.com.sg
X-WR-CALDESC:Events for Statos
REFRESH-INTERVAL;VALUE=DURATION:PT1H
X-Robots-Tag:noindex
X-PUBLISHED-TTL:PT1H
BEGIN:VTIMEZONE
TZID:Asia/Shanghai
BEGIN:STANDARD
TZOFFSETFROM:+0800
TZOFFSETTO:+0800
TZNAME:CST
DTSTART:20250101T000000
END:STANDARD
END:VTIMEZONE
BEGIN:VEVENT
DTSTART;VALUE=DATE:20250703
DTEND;VALUE=DATE:20250713
DTSTAMP:20260421T075843
CREATED:20250528T070732Z
LAST-MODIFIED:20250609T034259Z
UID:11710-1751500800-1752364799@statos.com.sg
SUMMARY:Borneo Cultural Festival 2025 (SWK)
DESCRIPTION:Borneo Cultural Festival\, abbreviated as BCF\, is an annual festival of food\, music\, and dance that places a focus on cultural diversity of Borneo. The festival is held in Sibu\, one of the major towns in the state of Sarawak\, Malaysia. \nGet ready for 10 unforgettable nights celebrating the rich\, diverse cultures of Sarawak!  \n\n Each night has a unique theme — experience the vibrant traditions of:\n Dayak Night\n Chinese Night\n Malay / Melanau Night\n International Night\n\n\n Date: 3–12 July 2025\n Location: Sibu\, Sarawak\n\n\n\nFor more information and updates\, you may refer to the official event pages below: \nFacebook Link: https://www.facebook.com/PestaKebudayaanBorneo/ \n\n\n\nMark your calendars\, bring your friends\, and immerse yourself in cultural performances\, music\, food\, and crafts like never before!
URL:https://statos.com.sg/event/borneo-cultural-festival-2025-swk/
LOCATION:Tun Tuanku Bujang Square Sibu\, Sarawak
ATTACH;FMTTYPE=image/png:https://statos.com.sg/wp-content/uploads/2025/05/Featured-Image-4.png
END:VEVENT
END:VCALENDAR